BEGIN:VCALENDAR
VERSION:2.0
PRODID:-//Sugarmill Woods Country Club - Homosassa, FL - ECPv6.15.20//NONSGML v1.0//EN
CALSCALE:GREGORIAN
METHOD:PUBLISH
X-WR-CALNAME:Sugarmill Woods Country Club - Homosassa, FL
X-ORIGINAL-URL:https://sugarmillwoodscc.com
X-WR-CALDESC:Events for Sugarmill Woods Country Club - Homosassa, FL
REFRESH-INTERVAL;VALUE=DURATION:PT1H
X-Robots-Tag:noindex
X-PUBLISHED-TTL:PT1H
BEGIN:VTIMEZONE
TZID:America/New_York
BEGIN:DAYLIGHT
TZOFFSETFROM:-0500
TZOFFSETTO:-0400
TZNAME:EDT
DTSTART:20250309T070000
END:DAYLIGHT
BEGIN:STANDARD
TZOFFSETFROM:-0400
TZOFFSETTO:-0500
TZNAME:EST
DTSTART:20251102T060000
END:STANDARD
BEGIN:DAYLIGHT
TZOFFSETFROM:-0500
TZOFFSETTO:-0400
TZNAME:EDT
DTSTART:20260308T070000
END:DAYLIGHT
BEGIN:STANDARD
TZOFFSETFROM:-0400
TZOFFSETTO:-0500
TZNAME:EST
DTSTART:20261101T060000
END:STANDARD
BEGIN:DAYLIGHT
TZOFFSETFROM:-0500
TZOFFSETTO:-0400
TZNAME:EDT
DTSTART:20270314T070000
END:DAYLIGHT
BEGIN:STANDARD
TZOFFSETFROM:-0400
TZOFFSETTO:-0500
TZNAME:EST
DTSTART:20271107T060000
END:STANDARD
END:VTIMEZONE
BEGIN:VEVENT
DTSTART;TZID=America/New_York:20260422T170000
DTEND;TZID=America/New_York:20260422T200000
DTSTAMP:20260422T053619
CREATED:20260330T181519Z
LAST-MODIFIED:20260330T181525Z
UID:10000421-1776877200-1776888000@sugarmillwoodscc.com
SUMMARY:BBQ Karaoke
DESCRIPTION:BBQ Karaoke with DJ Jim & Dianne! April 22\, 2026 5 pm to 8 pm featuring BBQ Buffet: Pulled Pork\, Shredded Chicken\, Broccoli Salad\, Baked Beans\, Mac & Cheese\, and Peach Cobbler. $29.95 plus tax
URL:https://sugarmillwoodscc.com/event/bbq-karaoke/
CATEGORIES:Events
END:VEVENT
BEGIN:VEVENT
DTSTART;TZID=America/New_York:20260424T080000
DTEND;TZID=America/New_York:20260424T170000
DTSTAMP:20260422T053619
CREATED:20250826T201718Z
LAST-MODIFIED:20250826T201722Z
UID:10000081-1777017600-1777050000@sugarmillwoodscc.com
SUMMARY:Friday Fish Fry
DESCRIPTION:
URL:https://sugarmillwoodscc.com/event/friday-fish-fry/2026-04-24/
END:VEVENT
BEGIN:VEVENT
DTSTART;TZID=America/New_York:20260424T153000
DTEND;TZID=America/New_York:20260424T170000
DTSTAMP:20260422T053619
CREATED:20260212T205653Z
LAST-MODIFIED:20260212T205655Z
UID:10000401-1777044600-1777050000@sugarmillwoodscc.com
SUMMARY:Hit & Giggle
DESCRIPTION:2nd & 4th Friday of each month \n\n\n\n3:30pm / 4:30pm \n\n\n\nStart times \n\n\n\nAlternate- Shot Competition \n\n\n\nTwo-Person Teams \n\n\n\n$5 per Team \n\n\n\nOptional \n\n\n\nDinner & Drinks after play \n\n\n\nSign up \n\n\n\nSugarmill Woods Golf Shop or shorn@aol.com
URL:https://sugarmillwoodscc.com/event/hit-giggle/2026-04-24/
CATEGORIES:Events
END:VEVENT
BEGIN:VEVENT
DTSTART;TZID=America/New_York:20260427T180000
DTEND;TZID=America/New_York:20260427T193000
DTSTAMP:20260422T053619
CREATED:20260213T180536Z
LAST-MODIFIED:20260213T180538Z
UID:10000409-1777312800-1777318200@sugarmillwoodscc.com
SUMMARY:Monday Night Pickleball League
DESCRIPTION:
URL:https://sugarmillwoodscc.com/event/monday-night-pickleball-league/2026-04-27/
END:VEVENT
BEGIN:VEVENT
DTSTART;TZID=America/New_York:20260428T160000
DTEND;TZID=America/New_York:20260428T190000
DTSTAMP:20260422T053619
CREATED:20260406T200609Z
LAST-MODIFIED:20260406T200611Z
UID:10000423-1777392000-1777402800@sugarmillwoodscc.com
SUMMARY:Game Night
DESCRIPTION:$12.50 Members | $17.50 Guests \n\n\n\nBuffet-Style Spread featuring crowd favorites \n\n\n\nSmash Burgers\, Paninis\, Wrap Sandwiches\, \n\n\n\nFresh Salads\, and more!
URL:https://sugarmillwoodscc.com/event/game-night-18/
ATTACH;FMTTYPE=image/png:https://sugarmillwoodscc.com/wp-content/uploads/2025/08/Sugarmill-Woods-Game-Night-9.23.25-Blog.png
END:VEVENT
END:VCALENDAR